BEGIN:VCALENDAR
VERSION:2.0
PRODID:-//Escuderia Mollerussa - ECPv6.15.20//NONSGML v1.0//EN
CALSCALE:GREGORIAN
METHOD:PUBLISH
X-WR-CALNAME:Escuderia Mollerussa
X-ORIGINAL-URL:https://escuderiamollerussa.com/es/
X-WR-CALDESC:Eventos para Escuderia Mollerussa
REFRESH-INTERVAL;VALUE=DURATION:PT1H
X-Robots-Tag:noindex
X-PUBLISHED-TTL:PT1H
BEGIN:VTIMEZONE
TZID:Europe/Madrid
BEGIN:DAYLIGHT
TZOFFSETFROM:+0100
TZOFFSETTO:+0200
TZNAME:CEST
DTSTART:20240331T010000
END:DAYLIGHT
BEGIN:STANDARD
TZOFFSETFROM:+0200
TZOFFSETTO:+0100
TZNAME:CET
DTSTART:20241027T010000
END:STANDARD
BEGIN:DAYLIGHT
TZOFFSETFROM:+0100
TZOFFSETTO:+0200
TZNAME:CEST
DTSTART:20250330T010000
END:DAYLIGHT
BEGIN:STANDARD
TZOFFSETFROM:+0200
TZOFFSETTO:+0100
TZNAME:CET
DTSTART:20251026T010000
END:STANDARD
BEGIN:DAYLIGHT
TZOFFSETFROM:+0100
TZOFFSETTO:+0200
TZNAME:CEST
DTSTART:20260329T010000
END:DAYLIGHT
BEGIN:STANDARD
TZOFFSETFROM:+0200
TZOFFSETTO:+0100
TZNAME:CET
DTSTART:20261025T010000
END:STANDARD
END:VTIMEZONE
BEGIN:VEVENT
DTSTART;VALUE=DATE:20251003
DTEND;VALUE=DATE:20251006
DTSTAMP:20260421T140657
CREATED:20250919T163616Z
LAST-MODIFIED:20250919T163616Z
UID:3098-1759449600-1759708799@escuderiamollerussa.com
SUMMARY:XXXIIIè PREMI ARA LLEIDA - CAMPIONAT ESPANYA i CATALUNYA AUTOCROSS
DESCRIPTION:Toda la información de la prueba la podéis encontrar https://escuderiamollerussa.wixsite.com/autocross
URL:https://escuderiamollerussa.com/es/esdeveniment/xxxiiie-premi-ara-lleida-campionat-espanya-i-catalunya-autocross/
LOCATION:Circuito Parque de la Sierra\, PARQUE DE LA SERRA\, Mollerussa\, Lleida\, 25230\, Spain
ATTACH;FMTTYPE=image/jpeg:https://escuderiamollerussa.com/wp-content/uploads/CARTELL-ESPANYA2025_p-1.jpg
END:VEVENT
BEGIN:VEVENT
DTSTART;VALUE=DATE:20251010
DTEND;VALUE=DATE:20251013
DTSTAMP:20260421T140657
CREATED:20250926T213909Z
LAST-MODIFIED:20250926T213909Z
UID:3117-1760054400-1760313599@escuderiamollerussa.com
SUMMARY:AX European Autocross Championship
DESCRIPTION:Penúltima prueba del AX European Autocross Championship 2025\, todas las categorías del Campeonato de Europa presents en el Circuit Parc de la Serra de Mollerussa.\nDías 10\,11 i 12 d’e ctubre de 2025.\nTota la información en https://european2023.escuderiamollerussa.com/
URL:https://escuderiamollerussa.com/es/esdeveniment/ax-european-autocross-championship-2/
LOCATION:Circuito Parque de la Sierra\, PARQUE DE LA SERRA\, Mollerussa\, Lleida\, 25230\, Spain
ATTACH;FMTTYPE=image/jpeg:https://escuderiamollerussa.com/wp-content/uploads/CARTELL-EUROPEAN2025_instagram.jpg
END:VEVENT
END:VCALENDAR