BEGIN:VCALENDAR
VERSION:2.0
PRODID:-//Escuderia Mollerussa - ECPv6.15.20//NONSGML v1.0//EN
CALSCALE:GREGORIAN
METHOD:PUBLISH
X-ORIGINAL-URL:https://escuderiamollerussa.com/es/
X-WR-CALDESC:Eventos para Escuderia Mollerussa
REFRESH-INTERVAL;VALUE=DURATION:PT1H
X-Robots-Tag:noindex
X-PUBLISHED-TTL:PT1H
BEGIN:VTIMEZONE
TZID:Europe/Madrid
BEGIN:DAYLIGHT
TZOFFSETFROM:+0100
TZOFFSETTO:+0200
TZNAME:CEST
DTSTART:20230326T010000
END:DAYLIGHT
BEGIN:STANDARD
TZOFFSETFROM:+0200
TZOFFSETTO:+0100
TZNAME:CET
DTSTART:20231029T010000
END:STANDARD
BEGIN:DAYLIGHT
TZOFFSETFROM:+0100
TZOFFSETTO:+0200
TZNAME:CEST
DTSTART:20240331T010000
END:DAYLIGHT
BEGIN:STANDARD
TZOFFSETFROM:+0200
TZOFFSETTO:+0100
TZNAME:CET
DTSTART:20241027T010000
END:STANDARD
BEGIN:DAYLIGHT
TZOFFSETFROM:+0100
TZOFFSETTO:+0200
TZNAME:CEST
DTSTART:20250330T010000
END:DAYLIGHT
BEGIN:STANDARD
TZOFFSETFROM:+0200
TZOFFSETTO:+0100
TZNAME:CET
DTSTART:20251026T010000
END:STANDARD
END:VTIMEZONE
BEGIN:VEVENT
DTSTART;VALUE=DATE:20240511
DTEND;VALUE=DATE:20240512
DTSTAMP:20260422T162426
CREATED:20230406T151633Z
LAST-MODIFIED:20240510T223932Z
UID:2135-1715385600-1715471999@escuderiamollerussa.com
SUMMARY:Diada Off Road Mollerussa 2024
DESCRIPTION:Reglamento particular – Autocross – APROBADO\nReglamento particular – Resistencia – APROBADO\nEnlace a inscripciones autocross\nEnlace a inscripciones resistencia\nHorarios V0\nComplemento 1. Horarios definitivos\nNormativa Transponders\nInscritos oficial AX\nInscritos oficial Resistencia\nPrevisión meteorológica\nClasificaciones Turismos\nClasificaciones Car Cross\nClasificaciones Júnior Cross\nClasficaciones Resistencia Off Road\nWeb Ayuntamiento Mollerussa
URL:https://escuderiamollerussa.com/es/esdeveniment/diada-off-road-mollerussa-2023/
LOCATION:Circuito Parque de la Sierra\, PARQUE DE LA SERRA\, Mollerussa\, Lleida\, 25230\, Spain
ATTACH;FMTTYPE=image/jpeg:https://escuderiamollerussa.com/wp-content/uploads/CARTELL_BAIXA.jpeg
END:VEVENT
END:VCALENDAR