BEGIN:VCALENDAR
VERSION:2.0
PRODID:-//Escuderia Mollerussa - ECPv6.15.20//NONSGML v1.0//EN
CALSCALE:GREGORIAN
METHOD:PUBLISH
X-WR-CALNAME:Escuderia Mollerussa
X-ORIGINAL-URL:https://escuderiamollerussa.com/es/
X-WR-CALDESC:Eventos para Escuderia Mollerussa
REFRESH-INTERVAL;VALUE=DURATION:PT1H
X-Robots-Tag:noindex
X-PUBLISHED-TTL:PT1H
BEGIN:VTIMEZONE
TZID:Europe/Madrid
BEGIN:DAYLIGHT
TZOFFSETFROM:+0100
TZOFFSETTO:+0200
TZNAME:CEST
DTSTART:20220327T010000
END:DAYLIGHT
BEGIN:STANDARD
TZOFFSETFROM:+0200
TZOFFSETTO:+0100
TZNAME:CET
DTSTART:20221030T010000
END:STANDARD
BEGIN:DAYLIGHT
TZOFFSETFROM:+0100
TZOFFSETTO:+0200
TZNAME:CEST
DTSTART:20230326T010000
END:DAYLIGHT
BEGIN:STANDARD
TZOFFSETFROM:+0200
TZOFFSETTO:+0100
TZNAME:CET
DTSTART:20231029T010000
END:STANDARD
BEGIN:DAYLIGHT
TZOFFSETFROM:+0100
TZOFFSETTO:+0200
TZNAME:CEST
DTSTART:20240331T010000
END:DAYLIGHT
BEGIN:STANDARD
TZOFFSETFROM:+0200
TZOFFSETTO:+0100
TZNAME:CET
DTSTART:20241027T010000
END:STANDARD
END:VTIMEZONE
BEGIN:VEVENT
DTSTART;VALUE=DATE:20231006
DTEND;VALUE=DATE:20231009
DTSTAMP:20260423T031852
CREATED:20230911T173213Z
LAST-MODIFIED:20230911T173213Z
UID:2332-1696550400-1696809599@escuderiamollerussa.com
SUMMARY:AX European Autocross Championship
DESCRIPTION:Última prueba del AX European Autocross Championship 2023\, todas las categorías del Campeonato de Europa presentes en el Circuito Parque de la Sierra de Mollerussa. Días 6\,7 y 8 de octubre de 2023.\nToda la información a https://european2023.escuderiamollerussa.com/
URL:https://escuderiamollerussa.com/es/esdeveniment/ax-european-autocross-championship/
LOCATION:Circuito Parque de la Sierra\, PARQUE DE LA SERRA\, Mollerussa\, Lleida\, 25230\, Spain
ATTACH;FMTTYPE=image/jpeg:https://escuderiamollerussa.com/wp-content/uploads/cartell_p.jpg
END:VEVENT
END:VCALENDAR