BEGIN:VCALENDAR
VERSION:2.0
PRODID:-//Escuderia Mollerussa - ECPv6.15.20//NONSGML v1.0//EN
CALSCALE:GREGORIAN
METHOD:PUBLISH
X-ORIGINAL-URL:https://escuderiamollerussa.com/es/
X-WR-CALDESC:Eventos para Escuderia Mollerussa
REFRESH-INTERVAL;VALUE=DURATION:PT1H
X-Robots-Tag:noindex
X-PUBLISHED-TTL:PT1H
BEGIN:VTIMEZONE
TZID:Europe/Madrid
BEGIN:DAYLIGHT
TZOFFSETFROM:+0100
TZOFFSETTO:+0200
TZNAME:CEST
DTSTART:20210328T010000
END:DAYLIGHT
BEGIN:STANDARD
TZOFFSETFROM:+0200
TZOFFSETTO:+0100
TZNAME:CET
DTSTART:20211031T010000
END:STANDARD
BEGIN:DAYLIGHT
TZOFFSETFROM:+0100
TZOFFSETTO:+0200
TZNAME:CEST
DTSTART:20220327T010000
END:DAYLIGHT
BEGIN:STANDARD
TZOFFSETFROM:+0200
TZOFFSETTO:+0100
TZNAME:CET
DTSTART:20221030T010000
END:STANDARD
BEGIN:DAYLIGHT
TZOFFSETFROM:+0100
TZOFFSETTO:+0200
TZNAME:CEST
DTSTART:20230326T010000
END:DAYLIGHT
BEGIN:STANDARD
TZOFFSETFROM:+0200
TZOFFSETTO:+0100
TZNAME:CET
DTSTART:20231029T010000
END:STANDARD
END:VTIMEZONE
BEGIN:VEVENT
DTSTART;VALUE=DATE:20220618
DTEND;VALUE=DATE:20220619
DTSTAMP:20260424T070646
CREATED:20220531T115518Z
LAST-MODIFIED:20220616T154508Z
UID:1863-1655510400-1655596799@escuderiamollerussa.com
SUMMARY:2º Rallysprint Circuito La Codina-SUSPENDIDO
DESCRIPTION:NOTA SUSPENSIÓN\nReglamento Particular\nItinerario-Horario\nLista Oficial Inscritos\nFormulario ficha equipamiento (OBLIGATORIA TODOS LOS EQUIPOS)\nPlano recorrido\nRecomendaciones seguridad\nCartel Oficial\nAccesos Rally HQ y Service\nDistribución Service\nPredicción Meteorológica\nListado Alojamientos
URL:https://escuderiamollerussa.com/es/esdeveniment/1863/
LOCATION:Lleida
ATTACH;FMTTYPE=image/jpeg:https://escuderiamollerussa.com/wp-content/uploads/CARTELL-2N-RALLISPRINT-CODINA-2022mostra.jpg
END:VEVENT
END:VCALENDAR