BEGIN:VCALENDAR
VERSION:2.0
PRODID:-//Escuderia Mollerussa - ECPv6.15.20//NONSGML v1.0//EN
CALSCALE:GREGORIAN
METHOD:PUBLISH
X-WR-CALNAME:Escuderia Mollerussa
X-ORIGINAL-URL:https://escuderiamollerussa.com/es/
X-WR-CALDESC:Eventos para Escuderia Mollerussa
REFRESH-INTERVAL;VALUE=DURATION:PT1H
X-Robots-Tag:noindex
X-PUBLISHED-TTL:PT1H
BEGIN:VTIMEZONE
TZID:Europe/Madrid
BEGIN:DAYLIGHT
TZOFFSETFROM:+0100
TZOFFSETTO:+0200
TZNAME:CEST
DTSTART:20200329T010000
END:DAYLIGHT
BEGIN:STANDARD
TZOFFSETFROM:+0200
TZOFFSETTO:+0100
TZNAME:CET
DTSTART:20201025T010000
END:STANDARD
BEGIN:DAYLIGHT
TZOFFSETFROM:+0100
TZOFFSETTO:+0200
TZNAME:CEST
DTSTART:20210328T010000
END:DAYLIGHT
BEGIN:STANDARD
TZOFFSETFROM:+0200
TZOFFSETTO:+0100
TZNAME:CET
DTSTART:20211031T010000
END:STANDARD
BEGIN:DAYLIGHT
TZOFFSETFROM:+0100
TZOFFSETTO:+0200
TZNAME:CEST
DTSTART:20220327T010000
END:DAYLIGHT
BEGIN:STANDARD
TZOFFSETFROM:+0200
TZOFFSETTO:+0100
TZNAME:CET
DTSTART:20221030T010000
END:STANDARD
END:VTIMEZONE
BEGIN:VEVENT
DTSTART;TZID=Europe/Madrid:20210508T000000
DTEND;TZID=Europe/Madrid:20210508T235959
DTSTAMP:20260425T055112
CREATED:20220301T212421Z
LAST-MODIFIED:20220301T212423Z
UID:1471-1620432000-1620518399@escuderiamollerussa.com
SUMMARY:1º Rallysprint de la Codina
DESCRIPTION:Reglamento Particular (pendiente Aprobación)\n 	Itinerario-Horario\n 	Formulario Inscripción (guardar en Excel y enviar)\n 	Declaración riesgo COVID-19 (OBLIGATORIA POR TODOS LOS EQUIPOS Y ACOMPAÑANTES)\n 	Formulario ficha equipamiento (OBLIGATORIA TODOS LOS EQUIPOS)\n 	Protocolo COVID-19\n 	Recomendaciones seguridad\n 	Cartel Oficial\n 	Lista Oficial Inscritos\n 	Accesos Rally HQ y Service\n 	Distribución Service\n 	Predicción Meteorológica\n 	Listado Alojamientos
URL:https://escuderiamollerussa.com/es/esdeveniment/1o-rallysprint-de-la-codina/
LOCATION:Circuito Parque de la Sierra\, PARQUE DE LA SERRA\, Mollerussa\, Lleida\, 25230\, Spain
END:VEVENT
END:VCALENDAR